BEGIN:VCALENDAR
VERSION:2.0
PRODID:icalendar-ruby
CALSCALE:GREGORIAN
METHOD:PUBLISH
BEGIN:VEVENT
DTSTAMP:20260423T074315Z
UID:9-420654@reallifefoursquare.com
DTSTART:20261007T013000Z
DTEND:20261007T030000Z
CLASS:PUBLIC
CREATED:20260422T200331
DESCRIPTION:Are you struggling with hurts\, habits and hangups? YOU ARE NOT
  ALONE.\nWelcome to Celebrate Recovery\, EVERY TUESDAY at 6:30pm. \nPark i
 n the back parking lot on Columbia Street. 
LAST-MODIFIED:20260422T200331
LOCATION:Real Life Foursquare 
SUMMARY:Celebrate Recovery
URL;VALUE=URI:https://www.reallifefoursquare.com/events/celebrate-recovery/
 2026-10-06
ATTACH;FILENAME=Web-calendar-thumbnails-3.png;FMTTYPE=image/png:https://dq5
 pwpg1q8ru0.cloudfront.net/2026/04/15/23/16/53/40cce633-234d-4012-b74d-8b9a
 dc76cf74/Web-calendar-thumbnails-3.png
END:VEVENT
END:VCALENDAR
