BEGIN:VCALENDAR
VERSION:2.0
PRODID:icalendar-ruby
CALSCALE:GREGORIAN
METHOD:PUBLISH
BEGIN:VEVENT
DTSTAMP:20260425T101611Z
UID:27-424763@reallifefoursquare.com
DTSTART:20261029T020000Z
DTEND:20261029T033000Z
CLASS:PUBLIC
CREATED:20260424T193730
DESCRIPTION:
LAST-MODIFIED:20260424T193730
LOCATION:Real Life Foursquare
SUMMARY:Forward Youth
URL;VALUE=URI:https://www.reallifefoursquare.com/events/forward-youth/2026-
 10-28
ATTACH;FILENAME=FWD YTH Screen 1.jpg;FMTTYPE=image/jpeg:https://dq5pwpg1q8r
 u0.cloudfront.net/2025/04/30/22/48/24/4f1a95e5-29fa-4728-baf4-5a974d048102
 /FWD%20YTH%20Screen%201.jpg
END:VEVENT
END:VCALENDAR
